BEGIN:VCALENDAR
VERSION:2.0
PRODID:-//wp-events-plugin.com//6.6.5//EN
TZID:Europe/Berlin
X-WR-TIMEZONE:Europe/Berlin
BEGIN:VEVENT
UID:0-209@0666028.dskv.de
DTSTART;TZID=Europe/Berlin;VALUE=DATE:20221022
DTEND;TZID=Europe/Berlin;VALUE=DATE:20221024
DTSTAMP:20221021T094229Z
URL:https://0666028.dskv.de/events/deutsche-mannschaftsmeisterschaft-2/
SUMMARY:Deutsche Mannschaftsmeisterschaft
DESCRIPTION:\nAusschreibung Deutsche Mannschaftsmeisterschaft\nDie Quoten f
 indet ihr hier.\n\nDie Ausschreibung zum gleichzeitig stattfindenden Romme
  Turnier findet ihr hier.\n\nAuch bei der Deutschen Mannschaftsmeisterscha
 ft findet ein Vorturnier am 21. Oktober statt. Hier ist die Ausschreibung.
 \n\nDurchführungsplan\n\n
LOCATION:Maritim Hotel\, Otto-von-Guericke-Straße 87\, Magdeburg\, Sachsen
 -Anhalt\, 39104\, Deutschland
GEO:52.129162;11.631847
X-APPLE-STRUCTURED-LOCATION;VALUE=URI;X-ADDRESS=Otto-von-Guericke-Straße 8
 7\, Magdeburg\, Sachsen-Anhalt\, 39104\, Deutschland;X-APPLE-RADIUS=100;X-
 TITLE=Maritim Hotel:geo:52.129162,11.631847
END:VEVENT
BEGIN:VTIMEZONE
TZID:Europe/Berlin
X-LIC-LOCATION:Europe/Berlin
BEGIN:DAYLIGHT
DTSTART:20220327T030000
TZOFFSETFROM:+0100
TZOFFSETTO:+0200
TZNAME:CEST
END:DAYLIGHT
END:VTIMEZONE
END:VCALENDAR