BEGIN:VCALENDAR
VERSION:2.0
PRODID:-//wp-events-plugin.com//6.6.5//EN
TZID:Europe/Berlin
X-WR-TIMEZONE:Europe/Berlin
BEGIN:VEVENT
UID:0-225@0666028.dskv.de
DTSTART;TZID=Europe/Berlin;VALUE=DATE:20230909
DTEND;TZID=Europe/Berlin;VALUE=DATE:20230911
DTSTAMP:20211013T204115Z
URL:https://0666028.dskv.de/events/5-ligaspieltag/
SUMMARY:5. Ligaspieltag
DESCRIPTION:je nach Staffel am Samstag oder Sonntag
END:VEVENT
BEGIN:VTIMEZONE
TZID:Europe/Berlin
X-LIC-LOCATION:Europe/Berlin
BEGIN:DAYLIGHT
DTSTART:20230326T030000
TZOFFSETFROM:+0100
TZOFFSETTO:+0200
TZNAME:CEST
END:DAYLIGHT
END:VTIMEZONE
END:VCALENDAR